BEGIN:VCALENDAR
VERSION:2.0
PRODID:-//University City District - ECPv6.15.18//NONSGML v1.0//EN
CALSCALE:GREGORIAN
METHOD:PUBLISH
X-ORIGINAL-URL:https://www.universitycity.org
X-WR-CALDESC:Events for University City District
REFRESH-INTERVAL;VALUE=DURATION:PT1H
X-Robots-Tag:noindex
X-PUBLISHED-TTL:PT1H
BEGIN:VTIMEZONE
TZID:America/New_York
BEGIN:DAYLIGHT
TZOFFSETFROM:-0500
TZOFFSETTO:-0400
TZNAME:EDT
DTSTART:20250309T070000
END:DAYLIGHT
BEGIN:STANDARD
TZOFFSETFROM:-0400
TZOFFSETTO:-0500
TZNAME:EST
DTSTART:20251102T060000
END:STANDARD
BEGIN:DAYLIGHT
TZOFFSETFROM:-0500
TZOFFSETTO:-0400
TZNAME:EDT
DTSTART:20260308T070000
END:DAYLIGHT
BEGIN:STANDARD
TZOFFSETFROM:-0400
TZOFFSETTO:-0500
TZNAME:EST
DTSTART:20261101T060000
END:STANDARD
BEGIN:DAYLIGHT
TZOFFSETFROM:-0500
TZOFFSETTO:-0400
TZNAME:EDT
DTSTART:20270314T070000
END:DAYLIGHT
BEGIN:STANDARD
TZOFFSETFROM:-0400
TZOFFSETTO:-0500
TZNAME:EST
DTSTART:20271107T060000
END:STANDARD
END:VTIMEZONE
BEGIN:VEVENT
DTSTART;TZID=America/New_York:20260603T190000
DTEND;TZID=America/New_York:20260603T200000
DTSTAMP:20260423T063002
CREATED:20250908T153406Z
LAST-MODIFIED:20250911T160656Z
UID:10000437-1780513200-1780516800@www.universitycity.org
SUMMARY:Spirituality on Tap
DESCRIPTION:Calvary Church hosts Spirituality on Tap\, an informal monthly gathering to discuss – not debate – questions related to spirituality\, theology\, religion\, etc. \n\n\n\nWhile SOT is not explicitly an interfaith group\, and some discussions may be specific to a Christian context\, all faith and religious/non-religious backgrounds and identities are welcome. \n\n\n\nDrinks and food optional\, and on your own.
URL:https://www.universitycity.org/event/spirituality-on-tap-3/2026-06-03/
LOCATION:Dahlak Paradise\, 4708 Baltimore Ave\, Philadelphia\, Pennsylvania
ATTACH;FMTTYPE=image/jpeg:https://www.universitycity.org/wp-content/uploads/2025/09/dahlak.jpg
ORGANIZER;CN="Calvary United Methodist Church":MAILTO:pastortim@allmeansall.org
END:VEVENT
BEGIN:VEVENT
DTSTART;TZID=America/New_York:20260604T173000
DTEND;TZID=America/New_York:20260604T193000
DTSTAMP:20260423T063002
CREATED:20260410T151643Z
LAST-MODIFIED:20260410T151645Z
UID:10000681-1780594200-1780601400@www.universitycity.org
SUMMARY:Pop-ups at Portal: Gretchen Elise
DESCRIPTION:This summer\, enjoy live art and music with the return of Pop Ups at the Portal! ☀️☀️☀️ \n\n\n\n\n\n\n\n\n\nGretchen Elise returns with a West Philly family jam during the Baltimore Avenue Dollar Stroll! \n\n\n\nGet ready to be moved\, lifted & wrapped in pure soul with the incredible indie singer-songwriter Gretchen Elise. Gretchen creates an experience that captivates listeners worldwide. She is a master at weaving the listener into her creations\, creating new collaborations in the moment. Composing original music from jazz to hip hop in Berlin\, Boston\, and her hometown Philadelphia\, her original releases (since 2004) can be heard on all streaming platforms. Her newest indie soul release video\, “Running\,” is an animated journey of resilience. Her current project “Grateful Love” is a danceable response to a car crashing into her house. Follow at @gretchenelisemusic; more at www.gretchenelise.com. \n\n\n\nWe invite everyone to come out every Thursday from May 7 to June 4\, and enjoy 5 weeks of all-age music\, warm weather\, and connecting with your community. Be sure to support Renata’s Kitchen while you’re there! \n\n\n\nPresented by local artist Gretchen Elise\, we invite all to come out every Thursday between May 7th – June 4th to enjoy 5 weeks of all-ages music\, warm weather\, and connecting with your community. \n\n\n\nMay 7: Denise King: International jazz vocalist. RSVP on Facebook. \n\n\n\nMay 14: West Philly Orchestra: Avant Folk Brass Band: RSVP on Facebook \n\n\n\nMay 21: Boogieman Dela & Friends ft. Nelly Line Dance: Hip-hop meets soul + A Line Dance Party: RSVP on Facebook \n\n\n\nMay 28: Solomon Dub: Roots reggae collective: RSVP on Facebook \n\n\n\nJune 4: Gretchen Elise: Energetic live jazz party during the Dollar Stroll! RSVP on Facebook
URL:https://www.universitycity.org/event/pop-ups-at-portal-gretchen-elise/
LOCATION:40th St Trolley Portal\, Trolley Portal Gardens at 40th and Baltimore\, Philadelphia\, 19104
ATTACH;FMTTYPE=image/jpeg:https://www.universitycity.org/wp-content/uploads/2026/04/UCD.DollarStroll.June2024_0009-2-scaled.jpg
END:VEVENT
BEGIN:VEVENT
DTSTART;TZID=America/New_York:20260803T090000
DTEND;TZID=America/New_York:20260803T180000
DTSTAMP:20260423T063002
CREATED:20260126T221112Z
LAST-MODIFIED:20260126T221113Z
UID:10000571-1785747600-1785780000@www.universitycity.org
SUMMARY:Young Artist Summer Camp: Potions & Pigments: Art from the natural worlds
DESCRIPTION:Our youngest witches and wizards explore the magic of the natural world through sensory play and simple crafts. They’ll collect plants and flowers\, make natural paints from berries and leaves\, create fairy gardens\, and learn that nature holds endless creative possibilities. \n\n\n\nBlooms (3rd-5th Grade): Herbalists & Makers \n\n\n\nMiddle-level students dive into natural dyeing techniques\, create herbal sachets and botanical crafts\, and learn about the properties of different plants. They’ll experiment with creating pigments from natural materials\, press flowers\, and make outdoor potions while understanding how people have used plants throughout history. \n\n\n\nRoots (6th-12th Grade): Wild Craft Studio \n\n\n\nOur oldest students master advanced natural dyeing techniques like eco-printing and bundle dyeing\, learn about foraging ethics and plant identification\, and create herbal remedies. They’ll explore the intersection of art\, herbalism\, and sustainability\, transforming foraged materials into sophisticated textiles\, natural inks\, and botanical art while deepening their connection to the natural world.
URL:https://www.universitycity.org/event/young-artist-summer-camp-potions-pigments-art-from-the-natural-worlds/
LOCATION:The Arts League\, 4226 Spruce St\, Philadelphia\, Pennsylvania\, 19104\, United States
ATTACH;FMTTYPE=image/jpeg:https://www.universitycity.org/wp-content/uploads/2026/01/art-classes-for-kids-istock-gradyreese-1-696x416-1.jpg
END:VEVENT
END:VCALENDAR