BEGIN:VCALENDAR
VERSION:2.0
PRODID:-//University City District - ECPv6.15.18//NONSGML v1.0//EN
CALSCALE:GREGORIAN
METHOD:PUBLISH
X-WR-CALNAME:University City District
X-ORIGINAL-URL:https://www.universitycity.org
X-WR-CALDESC:Events for University City District
REFRESH-INTERVAL;VALUE=DURATION:PT1H
X-Robots-Tag:noindex
X-PUBLISHED-TTL:PT1H
BEGIN:VTIMEZONE
TZID:America/New_York
BEGIN:DAYLIGHT
TZOFFSETFROM:-0500
TZOFFSETTO:-0400
TZNAME:EDT
DTSTART:20250309T070000
END:DAYLIGHT
BEGIN:STANDARD
TZOFFSETFROM:-0400
TZOFFSETTO:-0500
TZNAME:EST
DTSTART:20251102T060000
END:STANDARD
BEGIN:DAYLIGHT
TZOFFSETFROM:-0500
TZOFFSETTO:-0400
TZNAME:EDT
DTSTART:20260308T070000
END:DAYLIGHT
BEGIN:STANDARD
TZOFFSETFROM:-0400
TZOFFSETTO:-0500
TZNAME:EST
DTSTART:20261101T060000
END:STANDARD
BEGIN:DAYLIGHT
TZOFFSETFROM:-0500
TZOFFSETTO:-0400
TZNAME:EDT
DTSTART:20270314T070000
END:DAYLIGHT
BEGIN:STANDARD
TZOFFSETFROM:-0400
TZOFFSETTO:-0500
TZNAME:EST
DTSTART:20271107T060000
END:STANDARD
END:VTIMEZONE
BEGIN:VEVENT
DTSTART;TZID=America/New_York:20260425T130000
DTEND;TZID=America/New_York:20260425T140000
DTSTAMP:20260423T012114
CREATED:20260305T195315Z
LAST-MODIFIED:20260305T195636Z
UID:10000651-1777122000-1777125600@www.universitycity.org
SUMMARY:Adults Ballroom Dance Class at Musicopia
DESCRIPTION:Join Musicopia for a welcoming dance class for parents/caregivers\, principals\, classrooms teachers\, and extended community of our student program participants. This adult class series will provide an opportunity to connect\, move together\, and build community through social dance. Pop in for a single class or join the full series to learn a variety of social dances. \n\n\n\nSaturdays from February 21 through May 16.1:00-2:00 PM.Beginner-friendly.Introductions to Salsa\, Merengue\, Foxtrot\, Swing\, and More.No dance experience is necessary.$10 per person per class. \n\n\n\nClass dates: 2/21\, 2/28\, 3/7\, 3/14\, 3/28\, 4/11\, 4/18\, 4/25\, 5/2\, 5/16.Please note that this venue is not wheelchair accessible and stairs are required to reach the dance studio.
URL:https://www.universitycity.org/event/adults-ballroom-dance-class/2026-04-25/
LOCATION:The Arts League\, 4226 Spruce St\, Philadelphia\, Pennsylvania\, 19104\, United States
ATTACH;FMTTYPE=image/png:https://www.universitycity.org/wp-content/uploads/2026/03/Untitled-design-69-1.png
END:VEVENT
BEGIN:VEVENT
DTSTART;TZID=America/New_York:20260502T130000
DTEND;TZID=America/New_York:20260502T140000
DTSTAMP:20260423T012114
CREATED:20260305T195315Z
LAST-MODIFIED:20260305T195636Z
UID:10000652-1777726800-1777730400@www.universitycity.org
SUMMARY:Adults Ballroom Dance Class at Musicopia
DESCRIPTION:Join Musicopia for a welcoming dance class for parents/caregivers\, principals\, classrooms teachers\, and extended community of our student program participants. This adult class series will provide an opportunity to connect\, move together\, and build community through social dance. Pop in for a single class or join the full series to learn a variety of social dances. \n\n\n\nSaturdays from February 21 through May 16.1:00-2:00 PM.Beginner-friendly.Introductions to Salsa\, Merengue\, Foxtrot\, Swing\, and More.No dance experience is necessary.$10 per person per class. \n\n\n\nClass dates: 2/21\, 2/28\, 3/7\, 3/14\, 3/28\, 4/11\, 4/18\, 4/25\, 5/2\, 5/16.Please note that this venue is not wheelchair accessible and stairs are required to reach the dance studio.
URL:https://www.universitycity.org/event/adults-ballroom-dance-class/2026-05-02/
LOCATION:The Arts League\, 4226 Spruce St\, Philadelphia\, Pennsylvania\, 19104\, United States
ATTACH;FMTTYPE=image/png:https://www.universitycity.org/wp-content/uploads/2026/03/Untitled-design-69-1.png
END:VEVENT
BEGIN:VEVENT
DTSTART;TZID=America/New_York:20260509T130000
DTEND;TZID=America/New_York:20260509T140000
DTSTAMP:20260423T012114
CREATED:20260305T195315Z
LAST-MODIFIED:20260305T195636Z
UID:10000653-1778331600-1778335200@www.universitycity.org
SUMMARY:Adults Ballroom Dance Class at Musicopia
DESCRIPTION:Join Musicopia for a welcoming dance class for parents/caregivers\, principals\, classrooms teachers\, and extended community of our student program participants. This adult class series will provide an opportunity to connect\, move together\, and build community through social dance. Pop in for a single class or join the full series to learn a variety of social dances. \n\n\n\nSaturdays from February 21 through May 16.1:00-2:00 PM.Beginner-friendly.Introductions to Salsa\, Merengue\, Foxtrot\, Swing\, and More.No dance experience is necessary.$10 per person per class. \n\n\n\nClass dates: 2/21\, 2/28\, 3/7\, 3/14\, 3/28\, 4/11\, 4/18\, 4/25\, 5/2\, 5/16.Please note that this venue is not wheelchair accessible and stairs are required to reach the dance studio.
URL:https://www.universitycity.org/event/adults-ballroom-dance-class/2026-05-09/
LOCATION:The Arts League\, 4226 Spruce St\, Philadelphia\, Pennsylvania\, 19104\, United States
ATTACH;FMTTYPE=image/png:https://www.universitycity.org/wp-content/uploads/2026/03/Untitled-design-69-1.png
END:VEVENT
BEGIN:VEVENT
DTSTART;TZID=America/New_York:20260516T130000
DTEND;TZID=America/New_York:20260516T140000
DTSTAMP:20260423T012114
CREATED:20260305T195315Z
LAST-MODIFIED:20260305T195636Z
UID:10000654-1778936400-1778940000@www.universitycity.org
SUMMARY:Adults Ballroom Dance Class at Musicopia
DESCRIPTION:Join Musicopia for a welcoming dance class for parents/caregivers\, principals\, classrooms teachers\, and extended community of our student program participants. This adult class series will provide an opportunity to connect\, move together\, and build community through social dance. Pop in for a single class or join the full series to learn a variety of social dances. \n\n\n\nSaturdays from February 21 through May 16.1:00-2:00 PM.Beginner-friendly.Introductions to Salsa\, Merengue\, Foxtrot\, Swing\, and More.No dance experience is necessary.$10 per person per class. \n\n\n\nClass dates: 2/21\, 2/28\, 3/7\, 3/14\, 3/28\, 4/11\, 4/18\, 4/25\, 5/2\, 5/16.Please note that this venue is not wheelchair accessible and stairs are required to reach the dance studio.
URL:https://www.universitycity.org/event/adults-ballroom-dance-class/2026-05-16/
LOCATION:The Arts League\, 4226 Spruce St\, Philadelphia\, Pennsylvania\, 19104\, United States
ATTACH;FMTTYPE=image/png:https://www.universitycity.org/wp-content/uploads/2026/03/Untitled-design-69-1.png
END:VEVENT
END:VCALENDAR