BEGIN:VCALENDAR
VERSION:2.0
PRODID:-//University City District - ECPv6.15.18//NONSGML v1.0//EN
CALSCALE:GREGORIAN
METHOD:PUBLISH
X-WR-CALNAME:University City District
X-ORIGINAL-URL:https://www.universitycity.org
X-WR-CALDESC:Events for University City District
REFRESH-INTERVAL;VALUE=DURATION:PT1H
X-Robots-Tag:noindex
X-PUBLISHED-TTL:PT1H
BEGIN:VTIMEZONE
TZID:America/New_York
BEGIN:DAYLIGHT
TZOFFSETFROM:-0500
TZOFFSETTO:-0400
TZNAME:EDT
DTSTART:20250309T070000
END:DAYLIGHT
BEGIN:STANDARD
TZOFFSETFROM:-0400
TZOFFSETTO:-0500
TZNAME:EST
DTSTART:20251102T060000
END:STANDARD
BEGIN:DAYLIGHT
TZOFFSETFROM:-0500
TZOFFSETTO:-0400
TZNAME:EDT
DTSTART:20260308T070000
END:DAYLIGHT
BEGIN:STANDARD
TZOFFSETFROM:-0400
TZOFFSETTO:-0500
TZNAME:EST
DTSTART:20261101T060000
END:STANDARD
BEGIN:DAYLIGHT
TZOFFSETFROM:-0500
TZOFFSETTO:-0400
TZNAME:EDT
DTSTART:20270314T070000
END:DAYLIGHT
BEGIN:STANDARD
TZOFFSETFROM:-0400
TZOFFSETTO:-0500
TZNAME:EST
DTSTART:20271107T060000
END:STANDARD
END:VTIMEZONE
BEGIN:VEVENT
DTSTART;TZID=America/New_York:20260411T083000
DTEND;TZID=America/New_York:20260411T103000
DTSTAMP:20260421T090958
CREATED:20260218T151219Z
LAST-MODIFIED:20260218T173932Z
UID:10000607-1775896200-1775903400@www.universitycity.org
SUMMARY:Spring Bird Walk with the Philly Queer Birders
DESCRIPTION:Bird Walk with the Philly Queer Birders \n\n\n\nWho’s ready for spring birding!? Join the Philly Queer Birders for a weekend outing at The Woodlands! \n\n\n\nThe walk will move at a slow pace on a paved path with gentle slopes in some areas. No registration is required and there will be binoculars to share. The restrooms at the Stable will be open during our walk\, and there is plenty of parking within the cemetery and on the surrounding streets\, as well as public transit and bike parking. \n\n\n\n\n\n\n\n\nAccessibility: Check out The Woodlands’ Accessibility Information for details on entering the cemetery\, navigating the landscape\, restrooms\, building access\, and more.\n\n\n\nDirections: The Woodlands is located at 4000 Woodland Avenue\, directly across from the 40th Street Trolley Portal.\n\n\n\nParking: Please consider walking\, biking\, or taking public transit. There is parking available on-site throughout the cemetery on the paved roads. Please park along the curb\, leaving enough room for another vehicle to pass by.\n\n\n\nRules & Safety: In order for The Woodlands’ gates to continue to be opened daily\, the site’s rules and safety guidelines must be followed at all times.\n\n\n\n\nThis event is hosted by The Philly Queer Birders. If you have any questions about the event\, please contact phillyqueerbirders@gmail.com. All events that take place at The Woodlands must receive written approval.
URL:https://www.universitycity.org/event/spring-bird-walk-with-the-philly-queer-birders/
LOCATION:The Woodlands Cemetery & Mansion\, 4000 Woodland Ave\, PHILADELPHIA\, Pennsylvania\, 19104
ATTACH;FMTTYPE=image/webp:https://www.universitycity.org/wp-content/uploads/2026/02/rc2021042_234.webp
ORGANIZER;CN="The Philly Queer Birders":MAILTO:phillyqueerbirders@gmail.com
END:VEVENT
END:VCALENDAR