BEGIN:VCALENDAR
VERSION:2.0
PRODID:-//University City District - ECPv6.15.18//NONSGML v1.0//EN
CALSCALE:GREGORIAN
METHOD:PUBLISH
X-ORIGINAL-URL:https://www.universitycity.org
X-WR-CALDESC:Events for University City District
REFRESH-INTERVAL;VALUE=DURATION:PT1H
X-Robots-Tag:noindex
X-PUBLISHED-TTL:PT1H
BEGIN:VTIMEZONE
TZID:America/New_York
BEGIN:DAYLIGHT
TZOFFSETFROM:-0500
TZOFFSETTO:-0400
TZNAME:EDT
DTSTART:20250309T070000
END:DAYLIGHT
BEGIN:STANDARD
TZOFFSETFROM:-0400
TZOFFSETTO:-0500
TZNAME:EST
DTSTART:20251102T060000
END:STANDARD
BEGIN:DAYLIGHT
TZOFFSETFROM:-0500
TZOFFSETTO:-0400
TZNAME:EDT
DTSTART:20260308T070000
END:DAYLIGHT
BEGIN:STANDARD
TZOFFSETFROM:-0400
TZOFFSETTO:-0500
TZNAME:EST
DTSTART:20261101T060000
END:STANDARD
BEGIN:DAYLIGHT
TZOFFSETFROM:-0500
TZOFFSETTO:-0400
TZNAME:EDT
DTSTART:20270314T070000
END:DAYLIGHT
BEGIN:STANDARD
TZOFFSETFROM:-0400
TZOFFSETTO:-0500
TZNAME:EST
DTSTART:20271107T060000
END:STANDARD
END:VTIMEZONE
BEGIN:VEVENT
DTSTART;TZID=America/New_York:20260214T100000
DTEND;TZID=America/New_York:20260214T120000
DTSTAMP:20260421T053318
CREATED:20260206T174007Z
LAST-MODIFIED:20260206T174008Z
UID:10000595-1771063200-1771070400@www.universitycity.org
SUMMARY:Galentine’s at The Pink Gym
DESCRIPTION:The Pink Gym is celebrating Galentine’s with a special edition of its Mat Pilates class\, featuring a few thoughtful touches for the occasion. Guests are encouraged to wear pink or red\, move together\, and stay after class for light bites. Classes take place February 14 and 15 at 10 AM\, included for members with drop-in spots available for non-members.
URL:https://www.universitycity.org/event/galentines-at-the-pink-gym/
LOCATION:The Pink Gym\, 4112 Lancaster Ave\, PHILADELPHIA\, Pennsylvania\, 19143
ATTACH;FMTTYPE=image/png:https://www.universitycity.org/wp-content/uploads/2026/02/Screenshot-2026-02-06-at-12.39.20-PM-e1770399708278.png
END:VEVENT
END:VCALENDAR